BEGIN:VCALENDAR
VERSION:2.0
PRODID:-//APlan2Age - ECPv6.15.20//NONSGML v1.0//EN
CALSCALE:GREGORIAN
METHOD:PUBLISH
X-WR-CALNAME:APlan2Age
X-ORIGINAL-URL:https://aplan2age.org
X-WR-CALDESC:Events for APlan2Age
REFRESH-INTERVAL;VALUE=DURATION:PT1H
X-Robots-Tag:noindex
X-PUBLISHED-TTL:PT1H
BEGIN:VTIMEZONE
TZID:America/New_York
BEGIN:DAYLIGHT
TZOFFSETFROM:-0500
TZOFFSETTO:-0400
TZNAME:EDT
DTSTART:20240310T070000
END:DAYLIGHT
BEGIN:STANDARD
TZOFFSETFROM:-0400
TZOFFSETTO:-0500
TZNAME:EST
DTSTART:20241103T060000
END:STANDARD
BEGIN:DAYLIGHT
TZOFFSETFROM:-0500
TZOFFSETTO:-0400
TZNAME:EDT
DTSTART:20250309T070000
END:DAYLIGHT
BEGIN:STANDARD
TZOFFSETFROM:-0400
TZOFFSETTO:-0500
TZNAME:EST
DTSTART:20251102T060000
END:STANDARD
BEGIN:DAYLIGHT
TZOFFSETFROM:-0500
TZOFFSETTO:-0400
TZNAME:EDT
DTSTART:20260308T070000
END:DAYLIGHT
BEGIN:STANDARD
TZOFFSETFROM:-0400
TZOFFSETTO:-0500
TZNAME:EST
DTSTART:20261101T060000
END:STANDARD
END:VTIMEZONE
BEGIN:VEVENT
DTSTART;TZID=America/New_York:20251014T130000
DTEND;TZID=America/New_York:20251014T143000
DTSTAMP:20260423T063247
CREATED:20250905T183436Z
LAST-MODIFIED:20251014T160246Z
UID:1693-1760446800-1760452200@aplan2age.org
SUMMARY:10 Ways to Pay
DESCRIPTION:What is The National Conversation on Aging?Why do we need it?Who’s involved?\nJoin us as we continue to learn: \n\nHow aging is affecting us\, with 100 million folks in the US who are 50 and older\nHow these conversations will allow us to remain in control of our life\, living where we want\, with the care we want\nHow these conversations will prepare us for our aging journey\, and that of our loved ones\n\nThese important Conversations will take place quarterly\, with experts from the aging and care industry ready to share their knowledge and help you plan\, so your aging journey can be as peaceful as possible.\n\nGuest speakers will speak about the 10 different ways to pay for care.\nCheck back for details!\n\nOpen to everyone- professionals in and around the aging and care industry\, care partners\, family\, friends\, neighbors…YOU!\n\n  \n\n					RSVP: https://docs.google.com/forms/d/1LvUVlo0y1WZd63Vkma5bMROvC-Ob1ah1mWjIIUVn76s/edit \n\n\n  \nDon’t forget to add it to your calendar!\n\nLink to Join: https://us06web.zoom.us/j/82379521465?pwd=NETaB5NM16Vj4FunnRbcIhbdgT5EDR.1\n\n\nFlyer of Speakers: APlan2Age_NationalConversation_101425_Presenters
URL:https://aplan2age.org/event/natl-convo-10-14-2025/
LOCATION:Virtual – Zoom Link\, United States
ATTACH;FMTTYPE=image/png:https://aplan2age.org/wp-content/uploads/2025/08/AdvCouncil-10-1.png
ORGANIZER;CN="APlan2Age":MAILTO:info@aplan2age.org
END:VEVENT
END:VCALENDAR